BEGIN:VCALENDAR
VERSION:2.0
METHOD:PUBLISH
PRODID:-//hacksw/handcal/NONSGML v1.0//EN
BEGIN:VEVENT
TZID:America/New_York
UID:sudbury-zoom-event-2f92f78ed8d84fcc78635a4a11b51abf@sudbury.ma.us
SEQUENCE:1776699285
DTSTAMP:20260420T153445Z
DTSTART:20160202T003000Z
DURATION:PT120M
SUMMARY:Board of Appeals Meeting: Monday\, February 1\, 2016
LOCATION:Town Hall - Lower Level
URL:https://sudbury.ma.us/boardofappeals/meeting/board-of-appeals-meeting-monday-february-1-2016/
DESCRIPTION:For the latest details\, visit:  https://sudbury.ma.us/boardofappeals/meeting/board-of-appeals-meeting-monday-february-1-2016/
END:VEVENT
END:VCALENDAR