BEGIN:VCALENDAR
VERSION:2.0
METHOD:PUBLISH
PRODID:-//hacksw/handcal/NONSGML v1.0//EN
BEGIN:VEVENT
TZID:America/New_York
UID:sudbury-zoom-event-55b0c2ee946aea8ba6b8995052df50a3@sudbury.ma.us
SEQUENCE:1776693821
DTSTAMP:20260420T140341Z
DTSTART:20060104T000000Z
DURATION:PT120M
SUMMARY:Board of Appeals Meeting: Tuesday\, January 3\, 2006
LOCATION:Fairbank Community Center - Senior Center Pines Rm. (1958 to 2023)
URL:https://sudbury.ma.us/boardofappeals/meeting/board-of-appeals-meeting-tuesday-january-3-2006/
DESCRIPTION:For the latest details\, visit:  https://sudbury.ma.us/boardofappeals/meeting/board-of-appeals-meeting-tuesday-january-3-2006/
END:VEVENT
END:VCALENDAR