BEGIN:VCALENDAR
VERSION:2.0
METHOD:PUBLISH
PRODID:-//hacksw/handcal/NONSGML v1.0//EN
BEGIN:VEVENT
TZID:America/New_York
UID:sudbury-zoom-event-fdb74b793016773586505070c6644d1d@sudbury.ma.us
SEQUENCE:1776692901
DTSTAMP:20260420T134821Z
DTSTART:20161024T233000Z
DURATION:PT120M
SUMMARY:Board of Appeals Meeting: Monday\, October 24\, 2016
LOCATION:Flynn Building - Silva Meeting Room (2nd Floor)
URL:https://sudbury.ma.us/boardofappeals/meeting/board-of-appeals-meeting-monday-october-24-2016/
DESCRIPTION:For the latest details\, visit:  https://sudbury.ma.us/boardofappeals/meeting/board-of-appeals-meeting-monday-october-24-2016/
END:VEVENT
END:VCALENDAR