BEGIN:VCALENDAR
VERSION:2.0
METHOD:PUBLISH
PRODID:-//hacksw/handcal/NONSGML v1.0//EN
BEGIN:VEVENT
TZID:America/New_York
UID:sudbury-zoom-event-349db08ab1c732aa91d5eeee61e5f932@sudbury.ma.us
SEQUENCE:1776693865
DTSTAMP:20260420T140425Z
DTSTART:20190611T233000Z
DURATION:PT180M
SUMMARY:Board of Appeals Meeting: Tuesday\, June 11\, 2019
LOCATION:Police Station
URL:https://sudbury.ma.us/boardofappeals/meeting/board-of-appeals-meeting-tuesday-june-11-2019/
DESCRIPTION:For the latest details\, visit:  https://sudbury.ma.us/boardofappeals/meeting/board-of-appeals-meeting-tuesday-june-11-2019/
END:VEVENT
END:VCALENDAR