BEGIN:VCALENDAR
VERSION:2.0
METHOD:PUBLISH
PRODID:-//hacksw/handcal/NONSGML v1.0//EN
BEGIN:VEVENT
TZID:America/New_York
UID:sudbury-zoom-event-c52c3b0b0010d2e522f552a10447c9c2@sudbury.ma.us
SEQUENCE:1776692902
DTSTAMP:20260420T134822Z
DTSTART:20071218T003000Z
DURATION:PT120M
SUMMARY:Board of Appeals Meeting: Monday\, December 17\, 2007
LOCATION:Town Hall - Lower Level
URL:https://sudbury.ma.us/boardofappeals/meeting/board-of-appeals-meeting-monday-december-17-2007/
DESCRIPTION:For the latest details\, visit:  https://sudbury.ma.us/boardofappeals/meeting/board-of-appeals-meeting-monday-december-17-2007/
END:VEVENT
END:VCALENDAR