BEGIN:VCALENDAR
VERSION:2.0
METHOD:PUBLISH
PRODID:-//hacksw/handcal/NONSGML v1.0//EN
BEGIN:VEVENT
TZID:America/New_York
UID:sudbury-zoom-event-e858bc7170399a5d4ef609748e59cc33@sudbury.ma.us
SEQUENCE:1776670864
DTSTAMP:20260420T074104Z
DTSTART:20250407T200000Z
DURATION:PT240M
SUMMARY:Zoning Board Of Appeals Meeting: Monday\, April 7\, 2025
LOCATION:Virtual Meeting
URL:https://sudbury.ma.us/boardofappeals/meeting/zoning-board-of-appeals-meeting-monday-april-7-2025/
DESCRIPTION:Zoning Board Of Appeals meeting on April 7\, 2025 4:00:00 PM EDT (-04:00)\n\nTo join the Zoning Board Of Appeals meeting virtually\, please click on this link:\nhttps://zoom.us/j/678777141\n\nFor audio only\, call the number below and enter the meeting ID on your telephone keypad.\n\nDial-in number:  978-639-3366 or 470-250-9358\nMeeting ID:  678 777 141\n\nFor the latest details\, visit:  https://sudbury.ma.us/boardofappeals/meeting/zoning-board-of-appeals-meeting-monday-april-7-2025/
END:VEVENT
END:VCALENDAR