BEGIN:VCALENDAR
VERSION:2.0
METHOD:PUBLISH
PRODID:-//hacksw/handcal/NONSGML v1.0//EN
BEGIN:VEVENT
TZID:America/New_York
UID:sudbury-zoom-event-ca7f3d37b2540b00d99e2310903e7cd8@sudbury.ma.us
SEQUENCE:1776670826
DTSTAMP:20260420T074026Z
DTSTART:20250512T230000Z
DURATION:PT120M
SUMMARY:Zoning Board Of Appeals Meeting: Monday\, May 12\, 2025
LOCATION:Virtual Meeting
URL:https://sudbury.ma.us/boardofappeals/meeting/zoning-board-of-appeals-meeting-monday-may-12-2025/
DESCRIPTION:Zoning Board Of Appeals meeting on May 12\, 2025 7:00:00 PM EDT (-04:00)\n\nTo join the Zoning Board Of Appeals meeting virtually\, please click on this link:\nhttps://zoom.us/j/678777141\n\nFor audio only\, call the number below and enter the meeting ID on your telephone keypad.\n\nDial-in number:  978-639-3366 or 470-250-9358\nMeeting ID:  678 777 141\n\nFor the latest details\, visit:  https://sudbury.ma.us/boardofappeals/meeting/zoning-board-of-appeals-meeting-monday-may-12-2025/
END:VEVENT
END:VCALENDAR