BEGIN:VCALENDAR
VERSION:2.0
METHOD:PUBLISH
PRODID:-//hacksw/handcal/NONSGML v1.0//EN
BEGIN:VEVENT
TZID:America/New_York
UID:sudbury-zoom-event-f7633dd32138e8ff73ba5b69c7e0c88d@sudbury.ma.us
SEQUENCE:1776670852
DTSTAMP:20260420T074052Z
DTSTART:20250804T230000Z
DURATION:PT120M
SUMMARY:Zoning Board Of Appeals Meeting: Monday\, August 4\, 2025
LOCATION:Virtual Meeting
URL:https://sudbury.ma.us/boardofappeals/meeting/zoning-board-of-appeals-meeting-monday-august-4-2025/
DESCRIPTION:Zoning Board Of Appeals meeting on August 4\, 2025 7:00:00 PM EDT (-04:00)\n\nTo join the Zoning Board Of Appeals meeting virtually\, please click on this link:\nhttps://zoom.us/j/87353736709\n\nFor audio only\, call the number below and enter the meeting ID on your telephone keypad.\n\nDial-in number:  978-639-3366 or 470-250-9358\nMeeting ID:  873 5373 6709\n\nFor the latest details\, visit:  https://sudbury.ma.us/boardofappeals/meeting/zoning-board-of-appeals-meeting-monday-august-4-2025/
END:VEVENT
END:VCALENDAR