BEGIN:VCALENDAR
VERSION:2.0
METHOD:PUBLISH
PRODID:-//hacksw/handcal/NONSGML v1.0//EN
BEGIN:VEVENT
TZID:America/New_York
UID:sudbury-zoom-event-544091056357d9bbc575fcc0231e8c14@sudbury.ma.us
SEQUENCE:1776693865
DTSTAMP:20260420T140425Z
DTSTART:20120207T003000Z
DURATION:PT120M
SUMMARY:Board of Appeals Meeting: Monday\, February 6\, 2012
LOCATION:Town Hall - Lower Level
URL:https://sudbury.ma.us/boardofappeals/meeting/board-of-appeals-meeting-monday-february-6-2012/
DESCRIPTION:For the latest details\, visit:  https://sudbury.ma.us/boardofappeals/meeting/board-of-appeals-meeting-monday-february-6-2012/
END:VEVENT
END:VCALENDAR