BEGIN:VCALENDAR
VERSION:2.0
METHOD:PUBLISH
PRODID:-//hacksw/handcal/NONSGML v1.0//EN
BEGIN:VEVENT
TZID:America/New_York
UID:sudbury-zoom-event-4aaa3742cf7a16a2c51991d367a6a653@sudbury.ma.us
SEQUENCE:1776670864
DTSTAMP:20260420T074104Z
DTSTART:20260406T230000Z
DURATION:PT120M
SUMMARY:Zoning Board Of Appeals Meeting: Monday\, April 6\, 2026
LOCATION:Virtual Meeting
URL:https://sudbury.ma.us/boardofappeals/meeting/zoning-board-of-appeals-meeting-monday-april-6-2026/
DESCRIPTION:Zoning Board Of Appeals meeting on April 6\, 2026 7:00:00 PM EDT (-04:00)\n\nTo join the Zoning Board Of Appeals meeting virtually\, please click on this link:\nhttps://zoom.us/j/88287420324\n\nFor audio only\, call the number below and enter the meeting ID on your telephone keypad.\n\nDial-in number:  978-639-3366 or 470-250-9358\nMeeting ID:  882 8742 0324\n\nFor the latest details\, visit:  https://sudbury.ma.us/boardofappeals/meeting/zoning-board-of-appeals-meeting-monday-april-6-2026/
END:VEVENT
END:VCALENDAR