BEGIN:VCALENDAR
VERSION:2.0
METHOD:PUBLISH
PRODID:-//hacksw/handcal/NONSGML v1.0//EN
BEGIN:VEVENT
TZID:America/New_York
UID:sudbury-zoom-event-0230b22d4117ea096291a8de8dc0e87f@sudbury.ma.us
SEQUENCE:1776693893
DTSTAMP:20260420T140453Z
DTSTART:20020618T233000Z
DURATION:PT120M
SUMMARY:Board of Appeals Meeting: Tuesday\, June 18\, 2002
LOCATION:Town Hall - Lower Level
URL:https://sudbury.ma.us/boardofappeals/meeting/board-of-appeals-meeting-tuesday-june-18-2002-2/
DESCRIPTION:For the latest details\, visit:  https://sudbury.ma.us/boardofappeals/meeting/board-of-appeals-meeting-tuesday-june-18-2002-2/
END:VEVENT
END:VCALENDAR