BEGIN:VCALENDAR
VERSION:2.0
METHOD:PUBLISH
PRODID:-//hacksw/handcal/NONSGML v1.0//EN
BEGIN:VEVENT
TZID:America/New_York
UID:sudbury-zoom-event-a925b73bc2d747dfa3038324bb2df443@sudbury.ma.us
SEQUENCE:1776698386
DTSTAMP:20260420T151946Z
DTSTART:20081126T003000Z
DURATION:PT120M
SUMMARY:Board of Assessors Meeting: Tuesday\, November 25\, 2008
LOCATION:Town Hall
URL:https://sudbury.ma.us/boardofassessors/meeting/board-of-assessors-meeting-tuesday-november-25-2008/
DESCRIPTION:For the latest details\, visit:  https://sudbury.ma.us/boardofassessors/meeting/board-of-assessors-meeting-tuesday-november-25-2008/
END:VEVENT
END:VCALENDAR