BEGIN:VCALENDAR
VERSION:2.0
METHOD:PUBLISH
PRODID:-//hacksw/handcal/NONSGML v1.0//EN
BEGIN:VEVENT
TZID:America/New_York
UID:sudbury-zoom-event-2e5b5f6a837c641b2c1997a213a2a41f@sudbury.ma.us
SEQUENCE:1776693821
DTSTAMP:20260420T140341Z
DTSTART:20251027T233000Z
DURATION:PT120M
SUMMARY:Board Of Assessors Meeting: Monday\, October 27\, 2025
LOCATION:Flynn Building - Silva Meeting Room (2nd Floor)
URL:https://sudbury.ma.us/boardofassessors/meeting/board-of-assessors-meeting-monday-october-27-2025/
DESCRIPTION:For the latest details\, visit:  https://sudbury.ma.us/boardofassessors/meeting/board-of-assessors-meeting-monday-october-27-2025/
END:VEVENT
END:VCALENDAR