BEGIN:VCALENDAR
VERSION:2.0
METHOD:PUBLISH
PRODID:-//hacksw/handcal/NONSGML v1.0//EN
BEGIN:VEVENT
TZID:America/New_York
UID:sudbury-zoom-event-e41cb081f4bd132b7697174c1eece99a@sudbury.ma.us
SEQUENCE:1776982326
DTSTAMP:20260423T221206Z
DTSTART:19990727T233000Z
DURATION:PT120M
SUMMARY:Cable Television Committee Meeting: Tuesday\, July 27\, 1999
LOCATION:Goodnow Library - Community Room
URL:https://sudbury.ma.us/cable/meeting/cable-television-committee-meeting-tuesday-july-27-1999/
DESCRIPTION:For the latest details\, visit:  https://sudbury.ma.us/cable/meeting/cable-television-committee-meeting-tuesday-july-27-1999/
END:VEVENT
END:VCALENDAR