BEGIN:VCALENDAR
VERSION:2.0
METHOD:PUBLISH
PRODID:-//hacksw/handcal/NONSGML v1.0//EN
BEGIN:VEVENT
TZID:America/New_York
UID:sudbury-zoom-event-6c2753c6e8a646f9b0877213d6d52ab2@sudbury.ma.us
SEQUENCE:1776982326
DTSTAMP:20260423T221206Z
DTSTART:19991013T233000Z
DURATION:PT120M
SUMMARY:Cable Television Committee Meeting: Wednesday\, October 13\, 1999
LOCATION:Town Hall - Lower Level
URL:https://sudbury.ma.us/cable/meeting/cable-television-committee-meeting-wednesday-october-13-1999/
DESCRIPTION:For the latest details\, visit:  https://sudbury.ma.us/cable/meeting/cable-television-committee-meeting-wednesday-october-13-1999/
END:VEVENT
END:VCALENDAR