BEGIN:VCALENDAR
VERSION:2.0
METHOD:PUBLISH
PRODID:-//hacksw/handcal/NONSGML v1.0//EN
BEGIN:VEVENT
TZID:America/New_York
UID:sudbury-zoom-event-ace7ba58538fe24a13fc081e98848a07@sudbury.ma.us
SEQUENCE:1776982337
DTSTAMP:20260423T221217Z
DTSTART:19991026T233000Z
DURATION:PT120M
SUMMARY:Cable Television Committee Meeting: Tuesday\, October 26\, 1999
LOCATION:Town Hall - Lower Level
URL:https://sudbury.ma.us/cable/meeting/cable-television-committee-meeting-tuesday-october-26-1999/
DESCRIPTION:For the latest details\, visit:  https://sudbury.ma.us/cable/meeting/cable-television-committee-meeting-tuesday-october-26-1999/
END:VEVENT
END:VCALENDAR