BEGIN:VCALENDAR
VERSION:2.0
METHOD:PUBLISH
PRODID:-//hacksw/handcal/NONSGML v1.0//EN
BEGIN:VEVENT
TZID:America/New_York
UID:sudbury-zoom-event-ff475c3bbe726d29b98e62e3d4174600@sudbury.ma.us
SEQUENCE:1776982325
DTSTAMP:20260423T221205Z
DTSTART:19990915T000000Z
DURATION:PT120M
SUMMARY:Cable Television Committee Meeting: Tuesday\, September 14\, 1999
LOCATION:Goodnow Library - Community Room
URL:https://sudbury.ma.us/cable/meeting/cable-television-committee-meeting-tuesday-september-14-1999/
DESCRIPTION:For the latest details\, visit:  https://sudbury.ma.us/cable/meeting/cable-television-committee-meeting-tuesday-september-14-1999/
END:VEVENT
END:VCALENDAR