BEGIN:VCALENDAR
VERSION:2.0
METHOD:PUBLISH
PRODID:-//hacksw/handcal/NONSGML v1.0//EN
BEGIN:VEVENT
TZID:America/New_York
UID:sudbury-zoom-event-c21a8c3cf63a1309b1b502bfae48dce6@sudbury.ma.us
SEQUENCE:1776982335
DTSTAMP:20260423T221215Z
DTSTART:19990824T233000Z
DURATION:PT120M
SUMMARY:Cable Television Committee Meeting: Tuesday\, August 24\, 1999
LOCATION:Goodnow Library - Community Room
URL:https://sudbury.ma.us/cable/meeting/cable-television-committee-meeting-tuesday-august-24-1999/
DESCRIPTION:For the latest details\, visit:  https://sudbury.ma.us/cable/meeting/cable-television-committee-meeting-tuesday-august-24-1999/
END:VEVENT
END:VCALENDAR