BEGIN:VCALENDAR
VERSION:2.0
METHOD:PUBLISH
PRODID:-//hacksw/handcal/NONSGML v1.0//EN
BEGIN:VEVENT
TZID:America/New_York
UID:sudbury-zoom-event-6beeeb126eded44c7885c2368f2e3366@sudbury.ma.us
SEQUENCE:1776982300
DTSTAMP:20260423T221140Z
DTSTART:19990810T233000Z
DURATION:PT120M
SUMMARY:Cable Television Committee Meeting: Tuesday\, August 10\, 1999
LOCATION:Goodnow Library - Community Room
URL:https://sudbury.ma.us/cable/meeting/cable-television-committee-meeting-tuesday-august-10-1999/
DESCRIPTION:For the latest details\, visit:  https://sudbury.ma.us/cable/meeting/cable-television-committee-meeting-tuesday-august-10-1999/
END:VEVENT
END:VCALENDAR