BEGIN:VCALENDAR
VERSION:2.0
METHOD:PUBLISH
PRODID:-//hacksw/handcal/NONSGML v1.0//EN
BEGIN:VEVENT
TZID:America/New_York
UID:sudbury-zoom-event-263af383d54459077330af39a110c87a@sudbury.ma.us
SEQUENCE:1776982327
DTSTAMP:20260423T221207Z
DTSTART:19991201T003000Z
DURATION:PT120M
SUMMARY:Cable Television Committee Meeting: Tuesday\, November 30\, 1999
LOCATION:Lincoln-Sudbury Regional High School
URL:https://sudbury.ma.us/cable/meeting/cable-television-committee-meeting-tuesday-november-30-1999/
DESCRIPTION:For the latest details\, visit:  https://sudbury.ma.us/cable/meeting/cable-television-committee-meeting-tuesday-november-30-1999/
END:VEVENT
END:VCALENDAR