BEGIN:VCALENDAR
VERSION:2.0
METHOD:PUBLISH
PRODID:-//hacksw/handcal/NONSGML v1.0//EN
BEGIN:VEVENT
TZID:America/New_York
UID:sudbury-zoom-event-2a7a733583694961d6a9abeaf02ad825@sudbury.ma.us
SEQUENCE:1776982325
DTSTAMP:20260423T221205Z
DTSTART:19991215T003000Z
DURATION:PT120M
SUMMARY:Cable Television Committee Meeting: Tuesday\, December 14\, 1999
LOCATION:Lincoln-Sudbury Regional High School
URL:https://sudbury.ma.us/cable/meeting/cable-television-committee-meeting-tuesday-december-14-1999/
DESCRIPTION:For the latest details\, visit:  https://sudbury.ma.us/cable/meeting/cable-television-committee-meeting-tuesday-december-14-1999/
END:VEVENT
END:VCALENDAR