BEGIN:VCALENDAR
VERSION:2.0
METHOD:PUBLISH
PRODID:-//hacksw/handcal/NONSGML v1.0//EN
BEGIN:VEVENT
TZID:America/New_York
UID:sudbury-zoom-event-c795dfddb5d6eb7b45299e16364103cd@sudbury.ma.us
SEQUENCE:1776982336
DTSTAMP:20260423T221216Z
DTSTART:20000112T003000Z
DURATION:PT120M
SUMMARY:Cable Television Committee Meeting: Tuesday\, January 11\, 2000
LOCATION:Lincoln-Sudbury Regional High School
URL:https://sudbury.ma.us/cable/meeting/cable-television-committee-meeting-tuesday-january-11-2000/
DESCRIPTION:For the latest details\, visit:  https://sudbury.ma.us/cable/meeting/cable-television-committee-meeting-tuesday-january-11-2000/
END:VEVENT
END:VCALENDAR