BEGIN:VCALENDAR
VERSION:2.0
METHOD:PUBLISH
PRODID:-//hacksw/handcal/NONSGML v1.0//EN
BEGIN:VEVENT
TZID:America/New_York
UID:sudbury-zoom-event-d1e65dfc31fd574c1e37513aff5c9909@sudbury.ma.us
SEQUENCE:1776982336
DTSTAMP:20260423T221216Z
DTSTART:20000223T003000Z
DURATION:PT120M
SUMMARY:Cable Television Committee Meeting: Tuesday\, February 22\, 2000
LOCATION:Town Hall - Lower Level
URL:https://sudbury.ma.us/cable/meeting/cable-television-committee-meeting-tuesday-february-22-2000/
DESCRIPTION:For the latest details\, visit:  https://sudbury.ma.us/cable/meeting/cable-television-committee-meeting-tuesday-february-22-2000/
END:VEVENT
END:VCALENDAR