BEGIN:VCALENDAR
VERSION:2.0
METHOD:PUBLISH
PRODID:-//hacksw/handcal/NONSGML v1.0//EN
BEGIN:VEVENT
TZID:America/New_York
UID:sudbury-zoom-event-c96a992d602b85fcb0ee0ce50f5217ba@sudbury.ma.us
SEQUENCE:1776982301
DTSTAMP:20260423T221141Z
DTSTART:20000315T003000Z
DURATION:PT120M
SUMMARY:Cable Television Committee Meeting: Tuesday\, March 14\, 2000
LOCATION:Town Hall - Lower Level
URL:https://sudbury.ma.us/cable/meeting/cable-television-committee-meeting-tuesday-march-14-2000/
DESCRIPTION:For the latest details\, visit:  https://sudbury.ma.us/cable/meeting/cable-television-committee-meeting-tuesday-march-14-2000/
END:VEVENT
END:VCALENDAR