BEGIN:VCALENDAR
VERSION:2.0
METHOD:PUBLISH
PRODID:-//hacksw/handcal/NONSGML v1.0//EN
BEGIN:VEVENT
TZID:America/New_York
UID:sudbury-zoom-event-5ad22075f918289bc8a211f12c20d0ae@sudbury.ma.us
SEQUENCE:1776982327
DTSTAMP:20260423T221207Z
DTSTART:20000120T230000Z
DURATION:PT120M
SUMMARY:Cable Television Committee Meeting: Thursday\, January 20\, 2000
LOCATION:Town Hall - Lower Level
URL:https://sudbury.ma.us/cable/meeting/cable-television-committee-meeting-thursday-january-20-2000/
DESCRIPTION:For the latest details\, visit:  https://sudbury.ma.us/cable/meeting/cable-television-committee-meeting-thursday-january-20-2000/
END:VEVENT
END:VCALENDAR