BEGIN:VCALENDAR
VERSION:2.0
METHOD:PUBLISH
PRODID:-//hacksw/handcal/NONSGML v1.0//EN
BEGIN:VEVENT
TZID:America/New_York
UID:sudbury-zoom-event-6bf4de997d9935f511c928a61b7cba39@sudbury.ma.us
SEQUENCE:1776986699
DTSTAMP:20260423T232459Z
DTSTART:20000411T233000Z
DURATION:PT120M
SUMMARY:Cable Television Committee Meeting: Tuesday\, April 11\, 2000
LOCATION:Town Hall - Lower Level
URL:https://sudbury.ma.us/cable/meeting/cable-television-committee-meeting-tuesday-april-11-2000/
DESCRIPTION:For the latest details\, visit:  https://sudbury.ma.us/cable/meeting/cable-television-committee-meeting-tuesday-april-11-2000/
END:VEVENT
END:VCALENDAR