BEGIN:VCALENDAR
VERSION:2.0
METHOD:PUBLISH
PRODID:-//hacksw/handcal/NONSGML v1.0//EN
BEGIN:VEVENT
TZID:America/New_York
UID:sudbury-zoom-event-b8ade0cf858bad24a29e0afe9932c4aa@sudbury.ma.us
SEQUENCE:1776982303
DTSTAMP:20260423T221143Z
DTSTART:20000815T233000Z
DURATION:PT120M
SUMMARY:Cable Television Committee Meeting: Tuesday\, August 15\, 2000
LOCATION:Fairbank Community Center - Senior Center Pines Rm. (1958 to 2023)
URL:https://sudbury.ma.us/cable/meeting/cable-television-committee-meeting-tuesday-august-15-2000/
DESCRIPTION:For the latest details\, visit:  https://sudbury.ma.us/cable/meeting/cable-television-committee-meeting-tuesday-august-15-2000/
END:VEVENT
END:VCALENDAR