BEGIN:VCALENDAR
VERSION:2.0
METHOD:PUBLISH
PRODID:-//hacksw/handcal/NONSGML v1.0//EN
BEGIN:VEVENT
TZID:America/New_York
UID:sudbury-zoom-event-f379de542c6c8dc3260c0d93336a722a@sudbury.ma.us
SEQUENCE:1776982327
DTSTAMP:20260423T221207Z
DTSTART:20001017T233000Z
DURATION:PT120M
SUMMARY:Cable Television Committee Meeting: Tuesday\, October 17\, 2000
LOCATION:Goodnow Library - Community Room
URL:https://sudbury.ma.us/cable/meeting/cable-television-committee-meeting-tuesday-october-17-2000/
DESCRIPTION:For the latest details\, visit:  https://sudbury.ma.us/cable/meeting/cable-television-committee-meeting-tuesday-october-17-2000/
END:VEVENT
END:VCALENDAR