BEGIN:VCALENDAR
VERSION:2.0
METHOD:PUBLISH
PRODID:-//hacksw/handcal/NONSGML v1.0//EN
BEGIN:VEVENT
TZID:America/New_York
UID:sudbury-zoom-event-168e70f7dfa5bd43d2086daeddb527e3@sudbury.ma.us
SEQUENCE:1776982327
DTSTAMP:20260423T221207Z
DTSTART:20001115T003000Z
DURATION:PT120M
SUMMARY:Cable Television Committee Meeting: Tuesday\, November 14\, 2000
LOCATION:Fire Station (Headquarters)
URL:https://sudbury.ma.us/cable/meeting/cable-television-committee-meeting-tuesday-november-14-2000/
DESCRIPTION:For the latest details\, visit:  https://sudbury.ma.us/cable/meeting/cable-television-committee-meeting-tuesday-november-14-2000/
END:VEVENT
END:VCALENDAR