BEGIN:VCALENDAR
VERSION:2.0
METHOD:PUBLISH
PRODID:-//hacksw/handcal/NONSGML v1.0//EN
BEGIN:VEVENT
TZID:America/New_York
UID:sudbury-zoom-event-dd5f664dfc593b75a9960ba342e980ea@sudbury.ma.us
SEQUENCE:1776982328
DTSTAMP:20260423T221208Z
DTSTART:20010124T003000Z
DURATION:PT120M
SUMMARY:Cable Television Committee Meeting: Tuesday\, January 23\, 2001
LOCATION:Fire Station (Headquarters)
URL:https://sudbury.ma.us/cable/meeting/cable-television-committee-meeting-tuesday-january-23-2001/
DESCRIPTION:For the latest details\, visit:  https://sudbury.ma.us/cable/meeting/cable-television-committee-meeting-tuesday-january-23-2001/
END:VEVENT
END:VCALENDAR