BEGIN:VCALENDAR
VERSION:2.0
METHOD:PUBLISH
PRODID:-//hacksw/handcal/NONSGML v1.0//EN
BEGIN:VEVENT
TZID:America/New_York
UID:sudbury-zoom-event-7b64ceec32c425712854a53789125cc9@sudbury.ma.us
SEQUENCE:1776982326
DTSTAMP:20260423T221206Z
DTSTART:20010110T003000Z
DURATION:PT120M
SUMMARY:Cable Television Committee Meeting: Tuesday\, January 9\, 2001
LOCATION:Fire Station (Headquarters)
URL:https://sudbury.ma.us/cable/meeting/cable-television-committee-meeting-tuesday-january-9-2001/
DESCRIPTION:For the latest details\, visit:  https://sudbury.ma.us/cable/meeting/cable-television-committee-meeting-tuesday-january-9-2001/
END:VEVENT
END:VCALENDAR