BEGIN:VCALENDAR
VERSION:2.0
METHOD:PUBLISH
PRODID:-//hacksw/handcal/NONSGML v1.0//EN
BEGIN:VEVENT
TZID:America/New_York
UID:sudbury-zoom-event-52497ddb4645a4a95e8542d3f1a05b2d@sudbury.ma.us
SEQUENCE:1776982301
DTSTAMP:20260423T221141Z
DTSTART:20010314T003000Z
DURATION:PT120M
SUMMARY:Cable Television Committee Meeting: Tuesday\, March 13\, 2001
LOCATION:Fire Station (Headquarters)
URL:https://sudbury.ma.us/cable/meeting/cable-television-committee-meeting-tuesday-march-13-2001/
DESCRIPTION:For the latest details\, visit:  https://sudbury.ma.us/cable/meeting/cable-television-committee-meeting-tuesday-march-13-2001/
END:VEVENT
END:VCALENDAR