BEGIN:VCALENDAR
VERSION:2.0
METHOD:PUBLISH
PRODID:-//hacksw/handcal/NONSGML v1.0//EN
BEGIN:VEVENT
TZID:America/New_York
UID:sudbury-zoom-event-c2d1f39d89295d11b8c542ed3df8a7ab@sudbury.ma.us
SEQUENCE:1776982301
DTSTAMP:20260423T221141Z
DTSTART:20010410T233000Z
DURATION:PT120M
SUMMARY:Cable Television Committee Meeting: Tuesday\, April 10\, 2001
LOCATION:Fire Station (Headquarters)
URL:https://sudbury.ma.us/cable/meeting/cable-television-committee-meeting-tuesday-april-10-2001/
DESCRIPTION:For the latest details\, visit:  https://sudbury.ma.us/cable/meeting/cable-television-committee-meeting-tuesday-april-10-2001/
END:VEVENT
END:VCALENDAR