BEGIN:VCALENDAR
VERSION:2.0
METHOD:PUBLISH
PRODID:-//hacksw/handcal/NONSGML v1.0//EN
BEGIN:VEVENT
TZID:America/New_York
UID:sudbury-zoom-event-840a7e8082e4913d1c8a1eda8391517b@sudbury.ma.us
SEQUENCE:1776982302
DTSTAMP:20260423T221142Z
DTSTART:20010911T233000Z
DURATION:PT120M
SUMMARY:Cable Television Committee Meeting: Tuesday\, September 11\, 2001
LOCATION:Fire Station (Headquarters)
URL:https://sudbury.ma.us/cable/meeting/cable-television-committee-meeting-tuesday-september-11-2001/
DESCRIPTION:For the latest details\, visit:  https://sudbury.ma.us/cable/meeting/cable-television-committee-meeting-tuesday-september-11-2001/
END:VEVENT
END:VCALENDAR