BEGIN:VCALENDAR
VERSION:2.0
METHOD:PUBLISH
PRODID:-//hacksw/handcal/NONSGML v1.0//EN
BEGIN:VEVENT
TZID:America/New_York
UID:sudbury-zoom-event-783b780aa0f338fce3f77c22da7fb134@sudbury.ma.us
SEQUENCE:1776986699
DTSTAMP:20260423T232459Z
DTSTART:20011009T233000Z
DURATION:PT120M
SUMMARY:Cable Television Committee Meeting: Tuesday\, October 9\, 2001
LOCATION:Fire Station (Headquarters)
URL:https://sudbury.ma.us/cable/meeting/cable-television-committee-meeting-tuesday-october-9-2001/
DESCRIPTION:For the latest details\, visit:  https://sudbury.ma.us/cable/meeting/cable-television-committee-meeting-tuesday-october-9-2001/
END:VEVENT
END:VCALENDAR