BEGIN:VCALENDAR
VERSION:2.0
METHOD:PUBLISH
PRODID:-//hacksw/handcal/NONSGML v1.0//EN
BEGIN:VEVENT
TZID:America/New_York
UID:sudbury-zoom-event-7f9ad4d1e976c3856bce82c494c65327@sudbury.ma.us
SEQUENCE:1776982328
DTSTAMP:20260423T221208Z
DTSTART:20011128T003000Z
DURATION:PT120M
SUMMARY:Cable Television Committee Meeting: Tuesday\, November 27\, 2001
LOCATION:Town Hall - Lower Level
URL:https://sudbury.ma.us/cable/meeting/cable-television-committee-meeting-tuesday-november-27-2001/
DESCRIPTION:For the latest details\, visit:  https://sudbury.ma.us/cable/meeting/cable-television-committee-meeting-tuesday-november-27-2001/
END:VEVENT
END:VCALENDAR