BEGIN:VCALENDAR
VERSION:2.0
METHOD:PUBLISH
PRODID:-//hacksw/handcal/NONSGML v1.0//EN
BEGIN:VEVENT
TZID:America/New_York
UID:sudbury-zoom-event-91d22340fc4662305d0b9afeec715c44@sudbury.ma.us
SEQUENCE:1776986699
DTSTAMP:20260423T232459Z
DTSTART:20020320T003000Z
DURATION:PT120M
SUMMARY:Cable Television Committee Meeting: Tuesday\, March 19\, 2002
LOCATION:Fire Station (Headquarters)
URL:https://sudbury.ma.us/cable/meeting/cable-television-committee-meeting-tuesday-march-19-2002/
DESCRIPTION:For the latest details\, visit:  https://sudbury.ma.us/cable/meeting/cable-television-committee-meeting-tuesday-march-19-2002/
END:VEVENT
END:VCALENDAR