BEGIN:VCALENDAR
VERSION:2.0
METHOD:PUBLISH
PRODID:-//hacksw/handcal/NONSGML v1.0//EN
BEGIN:VEVENT
TZID:America/New_York
UID:sudbury-zoom-event-359ae31bfce11b0f732c43a534b82327@sudbury.ma.us
SEQUENCE:1776982335
DTSTAMP:20260423T221215Z
DTSTART:20020416T233000Z
DURATION:PT120M
SUMMARY:Cable Television Committee Meeting: Tuesday\, April 16\, 2002
LOCATION:Fire Station (Headquarters)
URL:https://sudbury.ma.us/cable/meeting/cable-television-committee-meeting-tuesday-april-16-2002/
DESCRIPTION:For the latest details\, visit:  https://sudbury.ma.us/cable/meeting/cable-television-committee-meeting-tuesday-april-16-2002/
END:VEVENT
END:VCALENDAR