BEGIN:VCALENDAR
VERSION:2.0
METHOD:PUBLISH
PRODID:-//hacksw/handcal/NONSGML v1.0//EN
BEGIN:VEVENT
TZID:America/New_York
UID:sudbury-zoom-event-ecb3d5f83c39564974c63c2519c32167@sudbury.ma.us
SEQUENCE:1776982300
DTSTAMP:20260423T221140Z
DTSTART:20020514T233000Z
DURATION:PT120M
SUMMARY:Cable Television Committee Meeting: Tuesday\, May 14\, 2002
LOCATION:Fire Station (Headquarters)
URL:https://sudbury.ma.us/cable/meeting/cable-television-committee-meeting-tuesday-may-14-2002/
DESCRIPTION:For the latest details\, visit:  https://sudbury.ma.us/cable/meeting/cable-television-committee-meeting-tuesday-may-14-2002/
END:VEVENT
END:VCALENDAR