BEGIN:VCALENDAR
VERSION:2.0
METHOD:PUBLISH
PRODID:-//hacksw/handcal/NONSGML v1.0//EN
BEGIN:VEVENT
TZID:America/New_York
UID:sudbury-zoom-event-0450a9b1a0cd6675fcd3463801147465@sudbury.ma.us
SEQUENCE:1776982336
DTSTAMP:20260423T221216Z
DTSTART:20020709T233000Z
DURATION:PT120M
SUMMARY:Cable Television Committee Meeting: Tuesday\, July 9\, 2002
LOCATION:Fire Station (Headquarters)
URL:https://sudbury.ma.us/cable/meeting/cable-television-committee-meeting-tuesday-july-9-2002/
DESCRIPTION:For the latest details\, visit:  https://sudbury.ma.us/cable/meeting/cable-television-committee-meeting-tuesday-july-9-2002/
END:VEVENT
END:VCALENDAR