BEGIN:VCALENDAR
VERSION:2.0
METHOD:PUBLISH
PRODID:-//hacksw/handcal/NONSGML v1.0//EN
BEGIN:VEVENT
TZID:America/New_York
UID:sudbury-zoom-event-dd37d8cbbdc5e2de678d5b0fe86fc7b4@sudbury.ma.us
SEQUENCE:1776981997
DTSTAMP:20260423T220637Z
DTSTART:20021015T233000Z
DURATION:PT120M
SUMMARY:Cable Television Committee Meeting: Tuesday\, October 15\, 2002
LOCATION:Fire Station (Headquarters)
URL:https://sudbury.ma.us/cable/meeting/cable-television-committee-meeting-tuesday-october-15-2002/
DESCRIPTION:For the latest details\, visit:  https://sudbury.ma.us/cable/meeting/cable-television-committee-meeting-tuesday-october-15-2002/
END:VEVENT
END:VCALENDAR