BEGIN:VCALENDAR
VERSION:2.0
METHOD:PUBLISH
PRODID:-//hacksw/handcal/NONSGML v1.0//EN
BEGIN:VEVENT
TZID:America/New_York
UID:sudbury-zoom-event-b54292f38a2a5dc9b517213b20545462@sudbury.ma.us
SEQUENCE:1776986698
DTSTAMP:20260423T232458Z
DTSTART:20021113T003000Z
DURATION:PT120M
SUMMARY:Cable Television Committee Meeting: Tuesday\, November 12\, 2002
LOCATION:Fire Station (Headquarters)
URL:https://sudbury.ma.us/cable/meeting/cable-television-committee-meeting-tuesday-november-12-2002/
DESCRIPTION:For the latest details\, visit:  https://sudbury.ma.us/cable/meeting/cable-television-committee-meeting-tuesday-november-12-2002/
END:VEVENT
END:VCALENDAR