BEGIN:VCALENDAR
VERSION:2.0
METHOD:PUBLISH
PRODID:-//hacksw/handcal/NONSGML v1.0//EN
BEGIN:VEVENT
TZID:America/New_York
UID:sudbury-zoom-event-9dfd4201b1ebd8b63fde950c6e57c734@sudbury.ma.us
SEQUENCE:1776982326
DTSTAMP:20260423T221206Z
DTSTART:20021211T003000Z
DURATION:PT120M
SUMMARY:Cable Television Committee Meeting: Tuesday\, December 10\, 2002
LOCATION:Fire Station (Headquarters)
URL:https://sudbury.ma.us/cable/meeting/cable-television-committee-meeting-tuesday-december-10-2002/
DESCRIPTION:For the latest details\, visit:  https://sudbury.ma.us/cable/meeting/cable-television-committee-meeting-tuesday-december-10-2002/
END:VEVENT
END:VCALENDAR