BEGIN:VCALENDAR
VERSION:2.0
METHOD:PUBLISH
PRODID:-//hacksw/handcal/NONSGML v1.0//EN
BEGIN:VEVENT
TZID:America/New_York
UID:sudbury-zoom-event-32435ce26b66ced62b721ee7298d14b4@sudbury.ma.us
SEQUENCE:1776982327
DTSTAMP:20260423T221207Z
DTSTART:20030115T003000Z
DURATION:PT120M
SUMMARY:Cable Television Committee Meeting: Tuesday\, January 14\, 2003
LOCATION:Fire Station (Headquarters)
URL:https://sudbury.ma.us/cable/meeting/cable-television-committee-meeting-tuesday-january-14-2003/
DESCRIPTION:For the latest details\, visit:  https://sudbury.ma.us/cable/meeting/cable-television-committee-meeting-tuesday-january-14-2003/
END:VEVENT
END:VCALENDAR