BEGIN:VCALENDAR
VERSION:2.0
METHOD:PUBLISH
PRODID:-//hacksw/handcal/NONSGML v1.0//EN
BEGIN:VEVENT
TZID:America/New_York
UID:sudbury-zoom-event-cd3dd3a50108c6b9d9b7226a9a3ea926@sudbury.ma.us
SEQUENCE:1776982326
DTSTAMP:20260423T221206Z
DTSTART:20030219T003000Z
DURATION:PT120M
SUMMARY:Cable Television Committee Meeting: Tuesday\, February 18\, 2003
LOCATION:Fire Station (Headquarters)
URL:https://sudbury.ma.us/cable/meeting/cable-television-committee-meeting-tuesday-february-18-2003/
DESCRIPTION:For the latest details\, visit:  https://sudbury.ma.us/cable/meeting/cable-television-committee-meeting-tuesday-february-18-2003/
END:VEVENT
END:VCALENDAR