BEGIN:VCALENDAR
VERSION:2.0
METHOD:PUBLISH
PRODID:-//hacksw/handcal/NONSGML v1.0//EN
BEGIN:VEVENT
TZID:America/New_York
UID:sudbury-zoom-event-4db87a0b797d9ab1ebef7ace023e3f09@sudbury.ma.us
SEQUENCE:1776982334
DTSTAMP:20260423T221214Z
DTSTART:20030515T233000Z
DURATION:PT120M
SUMMARY:Cable Television Committee Meeting: Thursday\, May 15\, 2003
LOCATION:Fire Station (Headquarters)
URL:https://sudbury.ma.us/cable/meeting/cable-television-committee-meeting-thursday-may-15-2003/
DESCRIPTION:For the latest details\, visit:  https://sudbury.ma.us/cable/meeting/cable-television-committee-meeting-thursday-may-15-2003/
END:VEVENT
END:VCALENDAR