BEGIN:VCALENDAR
VERSION:2.0
METHOD:PUBLISH
PRODID:-//hacksw/handcal/NONSGML v1.0//EN
BEGIN:VEVENT
TZID:America/New_York
UID:sudbury-zoom-event-a7718a7004070b3e5621438855af394a@sudbury.ma.us
SEQUENCE:1776982302
DTSTAMP:20260423T221142Z
DTSTART:20030909T233000Z
DURATION:PT120M
SUMMARY:Cable Television Committee Meeting: Tuesday\, September 9\, 2003
LOCATION:Fire Station (Headquarters)
URL:https://sudbury.ma.us/cable/meeting/cable-television-committee-meeting-tuesday-september-9-2003/
DESCRIPTION:For the latest details\, visit:  https://sudbury.ma.us/cable/meeting/cable-television-committee-meeting-tuesday-september-9-2003/
END:VEVENT
END:VCALENDAR