BEGIN:VCALENDAR
VERSION:2.0
METHOD:PUBLISH
PRODID:-//hacksw/handcal/NONSGML v1.0//EN
BEGIN:VEVENT
TZID:America/New_York
UID:sudbury-zoom-event-a9c5345389e4a4c3ebe1853e3cd26c9a@sudbury.ma.us
SEQUENCE:1776982300
DTSTAMP:20260423T221140Z
DTSTART:20040310T003000Z
DURATION:PT120M
SUMMARY:Cable Television Committee Meeting: Tuesday\, March 9\, 2004
LOCATION:Fire Station (Headquarters)
URL:https://sudbury.ma.us/cable/meeting/cable-television-committee-meeting-tuesday-march-9-2004/
DESCRIPTION:For the latest details\, visit:  https://sudbury.ma.us/cable/meeting/cable-television-committee-meeting-tuesday-march-9-2004/
END:VEVENT
END:VCALENDAR