BEGIN:VCALENDAR
VERSION:2.0
METHOD:PUBLISH
PRODID:-//hacksw/handcal/NONSGML v1.0//EN
BEGIN:VEVENT
TZID:America/New_York
UID:sudbury-zoom-event-060338003b16e52abeda7871e699b8c7@sudbury.ma.us
SEQUENCE:1776982328
DTSTAMP:20260423T221208Z
DTSTART:20040511T233000Z
DURATION:PT120M
SUMMARY:Cable Television Committee Meeting: Tuesday\, May 11\, 2004
LOCATION:Fire Station (Headquarters)
URL:https://sudbury.ma.us/cable/meeting/cable-television-committee-meeting-tuesday-may-11-2004/
DESCRIPTION:For the latest details\, visit:  https://sudbury.ma.us/cable/meeting/cable-television-committee-meeting-tuesday-may-11-2004/
END:VEVENT
END:VCALENDAR