BEGIN:VCALENDAR
VERSION:2.0
METHOD:PUBLISH
PRODID:-//hacksw/handcal/NONSGML v1.0//EN
BEGIN:VEVENT
TZID:America/New_York
UID:sudbury-zoom-event-5d964ce771ba60806139dece4a07c3da@sudbury.ma.us
SEQUENCE:1776982335
DTSTAMP:20260423T221215Z
DTSTART:20040713T233000Z
DURATION:PT120M
SUMMARY:Cable Television Committee Meeting: Tuesday\, July 13\, 2004
LOCATION:Lincoln-Sudbury Regional High School
URL:https://sudbury.ma.us/cable/meeting/cable-television-committee-meeting-tuesday-july-13-2004/
DESCRIPTION:For the latest details\, visit:  https://sudbury.ma.us/cable/meeting/cable-television-committee-meeting-tuesday-july-13-2004/
END:VEVENT
END:VCALENDAR